BEGIN:VCALENDAR
VERSION:2.0
PRODID:PHP
METHOD:PUBLISH
BEGIN:VEVENT
DTSTART:20211218T190000
DTEND:20211218T235500
DESCRIPTION:Saturday 18th December 7pm - Midnight
LOCATION:
SUMMARY:Staff Awards NIght
UID:www.fuseonline.org.uk?eventID=416-0
SEQUENCE:0
DTSTAMP:20260420T025633
END:VEVENT
END:VCALENDAR
