BEGIN:VCALENDAR
VERSION:2.0
PRODID:PHP
METHOD:PUBLISH
BEGIN:VEVENT
DTSTART:20211204T180000
DTEND:20211204T204500
LOCATION:
SUMMARY:Fuse Seniors
UID:www.fuseonline.org.uk?eventID=296-0
SEQUENCE:0
DTSTAMP:20260420T025904
END:VEVENT
END:VCALENDAR
