BEGIN:VCALENDAR
VERSION:2.0
PRODID:PHP
METHOD:PUBLISH
BEGIN:VEVENT
DTSTART:20211127T180000
DTEND:20211127T204500
LOCATION:
SUMMARY:Fuse Seniors
UID:www.fuseonline.org.uk?eventID=295-0
SEQUENCE:0
DTSTAMP:20260420T005657
END:VEVENT
END:VCALENDAR
