BEGIN:VCALENDAR
VERSION:2.0
PRODID:PHP
METHOD:PUBLISH
BEGIN:VEVENT
DTSTART:20211016T180000
DTEND:20211016T204500
LOCATION:
SUMMARY:Fuse Seniors
UID:www.fuseonline.org.uk?eventID=289-0
SEQUENCE:0
DTSTAMP:20260419T233147
END:VEVENT
END:VCALENDAR
