BEGIN:VCALENDAR
VERSION:2.0
PRODID:PHP
METHOD:PUBLISH
BEGIN:VEVENT
DTSTART:20211119T183000
DTEND:20211119T210000
LOCATION:
SUMMARY:Fuse Seniors
UID:www.fuseonline.org.uk?eventID=284-0
SEQUENCE:0
DTSTAMP:20260420T005826
END:VEVENT
END:VCALENDAR
