BEGIN:VCALENDAR
VERSION:2.0
PRODID:PHP
METHOD:PUBLISH
BEGIN:VEVENT
DTSTART:20211202T183000
DTEND:20211202T210000
LOCATION:
SUMMARY:Fuse Seniors
UID:www.fuseonline.org.uk?eventID=275-0
SEQUENCE:0
DTSTAMP:20260420T025813
END:VEVENT
END:VCALENDAR
