BEGIN:VCALENDAR
VERSION:2.0
PRODID:PHP
METHOD:PUBLISH
BEGIN:VEVENT
DTSTART:20211208T183000
DTEND:20211208T210000
LOCATION:
SUMMARY:Fuse Seniors
UID:www.fuseonline.org.uk?eventID=265-0
SEQUENCE:0
DTSTAMP:20260420T025634
END:VEVENT
END:VCALENDAR
