BEGIN:VCALENDAR
VERSION:2.0
PRODID:PHP
METHOD:PUBLISH
BEGIN:VEVENT
DTSTART:20211012T183000
DTEND:20211012T210000
LOCATION:
SUMMARY:Fuse Seniors
UID:www.fuseonline.org.uk?eventID=246-0
SEQUENCE:0
DTSTAMP:20260419T233023
END:VEVENT
END:VCALENDAR
