BEGIN:VCALENDAR
VERSION:2.0
PRODID:PHP
METHOD:PUBLISH
BEGIN:VEVENT
DTSTART:20211018T183000
DTEND:20211018T210000
LOCATION:
SUMMARY:Fuse Seniors
UID:www.fuseonline.org.uk?eventID=236-0
SEQUENCE:0
DTSTAMP:20260419T233024
END:VEVENT
END:VCALENDAR
