BEGIN:VCALENDAR
VERSION:2.0
PRODID:PHP
METHOD:PUBLISH
BEGIN:VEVENT
DTSTART:20211214T150000
DTEND:20211214T173000
LOCATION:
SUMMARY:Fuse Juniors
UID:www.fuseonline.org.uk?eventID=222-0
SEQUENCE:0
DTSTAMP:20260420T025742
END:VEVENT
END:VCALENDAR
