BEGIN:VCALENDAR
VERSION:2.0
PRODID:PHP
METHOD:PUBLISH
BEGIN:VEVENT
DTSTART:20211216T150000
DTEND:20211216T173000
LOCATION:
SUMMARY:Fuse Juniors
UID:www.fuseonline.org.uk?eventID=200-0
SEQUENCE:0
DTSTAMP:20260420T025628
END:VEVENT
END:VCALENDAR
