BEGIN:VCALENDAR
VERSION:2.0
PRODID:PHP
METHOD:PUBLISH
BEGIN:VEVENT
DTSTART:20211104T150000
DTEND:20211104T173000
LOCATION:
SUMMARY:Fuse Juniors
UID:www.fuseonline.org.uk?eventID=194-0
SEQUENCE:0
DTSTAMP:20260420T005827
END:VEVENT
END:VCALENDAR
