BEGIN:VCALENDAR
VERSION:2.0
PRODID:PHP
METHOD:PUBLISH
BEGIN:VEVENT
DTSTART:20211028T150000
DTEND:20211028T173000
LOCATION:
SUMMARY:Fuse Juniors
UID:www.fuseonline.org.uk?eventID=193-0
SEQUENCE:0
DTSTAMP:20260419T232947
END:VEVENT
END:VCALENDAR
