BEGIN:VCALENDAR
VERSION:2.0
PRODID:PHP
METHOD:PUBLISH
BEGIN:VEVENT
DTSTART:20211213T150000
DTEND:20211213T173000
LOCATION:
SUMMARY:Fuse Juniors
UID:www.fuseonline.org.uk?eventID=189-0
SEQUENCE:0
DTSTAMP:20260420T025634
END:VEVENT
END:VCALENDAR
