BEGIN:VCALENDAR
VERSION:2.0
PRODID:PHP
METHOD:PUBLISH
BEGIN:VEVENT
DTSTART:20211115T150000
DTEND:20211115T173000
LOCATION:
SUMMARY:Fuse Juniors
UID:www.fuseonline.org.uk?eventID=185-0
SEQUENCE:0
DTSTAMP:20260420T005740
END:VEVENT
END:VCALENDAR
