BEGIN:VCALENDAR
VERSION:2.0
PRODID:PHP
METHOD:PUBLISH
BEGIN:VEVENT
DTSTART:20211025T150000
DTEND:20211025T173000
LOCATION:
SUMMARY:Fuse Juniors
UID:www.fuseonline.org.uk?eventID=182-0
SEQUENCE:0
DTSTAMP:20260419T233023
END:VEVENT
END:VCALENDAR
