BEGIN:VCALENDAR
VERSION:2.0
PRODID:PHP
METHOD:PUBLISH
BEGIN:VEVENT
DTSTART:20210609T183000
DTEND:20210609T213000
LOCATION:
SUMMARY:Fuse Seniors
UID:www.fuseonline.org.uk?eventID=157-0
SEQUENCE:0
DTSTAMP:20260419T163422
END:VEVENT
END:VCALENDAR
