BEGIN:VCALENDAR
VERSION:2.0
PRODID:PHP
METHOD:PUBLISH
BEGIN:VEVENT
DTSTART:20210610T150000
DTEND:20210610T180000
LOCATION:
SUMMARY:Fuse Juniors
UID:www.fuseonline.org.uk?eventID=136-0
SEQUENCE:0
DTSTAMP:20260419T163439
END:VEVENT
END:VCALENDAR
